BEGIN:VCALENDAR
VERSION:2.0
PRODID:-//Na Lei Hulu I Ka Wekiu - ECPv6.15.20//NONSGML v1.0//EN
CALSCALE:GREGORIAN
METHOD:PUBLISH
X-WR-CALNAME:Na Lei Hulu I Ka Wekiu
X-ORIGINAL-URL:https://naleihulu.org
X-WR-CALDESC:Events for Na Lei Hulu I Ka Wekiu
REFRESH-INTERVAL;VALUE=DURATION:PT1H
X-Robots-Tag:noindex
X-PUBLISHED-TTL:PT1H
BEGIN:VTIMEZONE
TZID:America/Los_Angeles
BEGIN:DAYLIGHT
TZOFFSETFROM:-0800
TZOFFSETTO:-0700
TZNAME:PDT
DTSTART:20250309T100000
END:DAYLIGHT
BEGIN:STANDARD
TZOFFSETFROM:-0700
TZOFFSETTO:-0800
TZNAME:PST
DTSTART:20251102T090000
END:STANDARD
BEGIN:DAYLIGHT
TZOFFSETFROM:-0800
TZOFFSETTO:-0700
TZNAME:PDT
DTSTART:20260308T100000
END:DAYLIGHT
BEGIN:STANDARD
TZOFFSETFROM:-0700
TZOFFSETTO:-0800
TZNAME:PST
DTSTART:20261101T090000
END:STANDARD
BEGIN:DAYLIGHT
TZOFFSETFROM:-0800
TZOFFSETTO:-0700
TZNAME:PDT
DTSTART:20270314T100000
END:DAYLIGHT
BEGIN:STANDARD
TZOFFSETFROM:-0700
TZOFFSETTO:-0800
TZNAME:PST
DTSTART:20271107T090000
END:STANDARD
END:VTIMEZONE
BEGIN:VEVENT
DTSTART;VALUE=DATE:20260502
DTEND;VALUE=DATE:20260503
DTSTAMP:20260423T063351
CREATED:20260421T112433Z
LAST-MODIFIED:20260422T134754Z
UID:10000582-1777680000-1777766399@naleihulu.org
SUMMARY:Keiki Hula Show at Lei of Aloha Festival
DESCRIPTION:Nā Lei Hulu i ka Wēkiu keiki will be performing at the 5th Annual Lei of Aloha Festival. This is a free event\, all ages are welcome. The event starts at 11am. \nKeiki dance begins at 1:00pm (time may vary on day of event).
URL:https://naleihulu.org/event/keiki-hula-show-lei-aloha-festival/
LOCATION:Mare Island Coal Shed\, 860 Nimitz Ave.\, Vallejo\, CA
CATEGORIES:Feature
ATTACH;FMTTYPE=image/png:https://naleihulu.org/wp-content/uploads/2026/04/aloha-festival-feature.png
END:VEVENT
END:VCALENDAR