BEGIN:VCALENDAR
VERSION:2.0
PRODID:-//Na Lei Hulu I Ka Wekiu - ECPv6.15.20//NONSGML v1.0//EN
CALSCALE:GREGORIAN
METHOD:PUBLISH
X-ORIGINAL-URL:https://naleihulu.org
X-WR-CALDESC:Events for Na Lei Hulu I Ka Wekiu
REFRESH-INTERVAL;VALUE=DURATION:PT1H
X-Robots-Tag:noindex
X-PUBLISHED-TTL:PT1H
BEGIN:VTIMEZONE
TZID:UTC
BEGIN:STANDARD
TZOFFSETFROM:+0000
TZOFFSETTO:+0000
TZNAME:UTC
DTSTART:20250101T000000
END:STANDARD
END:VTIMEZONE
BEGIN:VEVENT
DTSTART;VALUE=DATE:20261001
DTEND;VALUE=DATE:20261002
DTSTAMP:20260423T104903
CREATED:20260112T221751Z
LAST-MODIFIED:20260407T153245Z
UID:10000524-1790812800-1790899199@naleihulu.org
SUMMARY:The Epic Tale of Hiʻiaka
DESCRIPTION:Witzend Productions\nPatrick Makuakāne\, Choreographer\nThe story of Hiʻiakaikapoliopele began as a Hawaiian oral tradition\, passed down from generation to generation. The musical begins with the goddess HIʻIAKA’s quest to find her sister Pele’s dream lover\, restore him to life\, and deliver him safely to Pele at her crater home. HIʻIAKA and her companions make their way through dangers and ordeals\, facing spectral foes and worldly wiles. A very human account of love and lust\, jealousy and justice\, peopled with deities\, chiefs\, demons and commoners. At its core\, it is a story of two sisters who have a major falling out\,  the havoc wreaked because of it …. and ultimate redemption. \nDates\nOctober 2026 — dates TBD more info coming soon \nTickets\nMore info coming soon
URL:https://naleihulu.org/event/the-epic-tale-of-hiiaka/
LOCATION:Leeward Theatre\, Leeward Community College\, 96-045 Ala Ike\, Pearl City\, HI\, 96782\, United States
CATEGORIES:Feature
ATTACH;FMTTYPE=image/jpeg:https://naleihulu.org/wp-content/uploads/2026/01/hiiaka-musical-TN-jGqQNE.jpg
END:VEVENT
END:VCALENDAR