BEGIN:VCALENDAR
VERSION:2.0
PRODID:-//Na Lei Hulu I Ka Wekiu - ECPv6.15.20//NONSGML v1.0//EN
CALSCALE:GREGORIAN
METHOD:PUBLISH
X-ORIGINAL-URL:https://naleihulu.org
X-WR-CALDESC:Events for Na Lei Hulu I Ka Wekiu
REFRESH-INTERVAL;VALUE=DURATION:PT1H
X-Robots-Tag:noindex
X-PUBLISHED-TTL:PT1H
BEGIN:VTIMEZONE
TZID:UTC
BEGIN:STANDARD
TZOFFSETFROM:+0000
TZOFFSETTO:+0000
TZNAME:UTC
DTSTART:20250101T000000
END:STANDARD
END:VTIMEZONE
BEGIN:VEVENT
DTSTART;TZID=UTC:20260128T183000
DTEND;TZID=UTC:20260128T193000
DTSTAMP:20260423T134050
CREATED:20260112T221751Z
LAST-MODIFIED:20260119T105225Z
UID:10000571-1769625000-1769628600@naleihulu.org
SUMMARY:The Return of Kapaemahu
DESCRIPTION:Near the Duke Kahanamoku statue\nevery Wednesday evening\, weather permitting\, 6:30 -7:30PM\nFree\, outdoors\, seating on grass \nA dramatic telling of the long-hidden story of the Healer Stones of Kapaemahu\, a unique monument to healing and inclusion in the heart of Waikīkī. Directed by Kumu Patrick Makuakāne\, The Return of Kapaemahu brings Hawaiʻiʻs historic reverence for māhū just steps from the sacred stones in a blend of traditional and modern music and hula. \nThis extraordinary run will end with a final shows on January 7\, 14\, 21\, 28\, of 2026.
URL:https://naleihulu.org/event/the-return-of-kapaemahu/2026-01-28/
LOCATION:CA
CATEGORIES:Weekly Shows
ATTACH;FMTTYPE=image/png:https://naleihulu.org/wp-content/uploads/2026/01/Return-of-Kapaemahu-1200x800-1-1-9rF0PW.png
END:VEVENT
END:VCALENDAR